BEGIN:VCALENDAR
VERSION:2.0
PRODID:-//wp-events-plugin.com//7.2.3.1//EN
BEGIN:VEVENT
UID:28@sg-stockenboi.at
DTSTART:20171207T190000Z
DTEND:20171207T220000Z
DTSTAMP:20171201T134004Z
URL:https://www.sg-stockenboi.at/termine/weihnachtsfeier-2/
SUMMARY:Weihnachtsfeier
DESCRIPTION:
LOCATION:Zlan Gemeindeamt\, Kirchplatz 2\, Zlan\, 9713\, Österreich
GEO:46.729021;13.58023819999994
X-APPLE-STRUCTURED-LOCATION;VALUE=URI;X-ADDRESS=Kirchplatz 2\, Zlan\, 9713\
 , Österreich;X-APPLE-RADIUS=100;X-TITLE=Zlan Gemeindeamt:geo:46.729021,13
 .58023819999994
END:VEVENT
END:VCALENDAR