BEGIN:VCALENDAR
VERSION:2.0
PRODID:-//wp-events-plugin.com//7.2.3.1//EN
BEGIN:VEVENT
UID:26@sg-stockenboi.at
DTSTART:20170806T100000Z
DTEND:20170806T170000Z
DTSTAMP:20170224T174827Z
URL:https://www.sg-stockenboi.at/termine/muehlenfest-2017/
SUMMARY:Mühlenfest 2017
DESCRIPTION:
LOCATION:Brackmühle\, Stockenboi\, Stockenboi\, 9714\, Österreich
GEO:46.721114;13.496162
X-APPLE-STRUCTURED-LOCATION;VALUE=URI;X-ADDRESS=Stockenboi\, Stockenboi\, 9
 714\, Österreich;X-APPLE-RADIUS=100;X-TITLE=Brackmühle:geo:46.721114,13.
 496162
END:VEVENT
END:VCALENDAR