BEGIN:VCALENDAR
VERSION:2.0
PRODID:-//wp-events-plugin.com//7.2.3.1//EN
BEGIN:VEVENT
UID:29@sg-stockenboi.at
DTSTART:20171217T190000Z
DTEND:20171217T203000Z
DTSTAMP:20171210T172653Z
URL:https://www.sg-stockenboi.at/termine/adventmusik-in-zlan/
SUMMARY:Adventmusik in Zlan
DESCRIPTION:Adventfeier der evangelischen Pfarrgemeinde in der Kirche Zlan.
LOCATION:Evangelische Kirche Zlan\, Kirchplatz\, Zlan\, 9713\, Österreich
GEO:46.7292628;13.580762600000071
X-APPLE-STRUCTURED-LOCATION;VALUE=URI;X-ADDRESS=Kirchplatz\, Zlan\, 9713\, 
 Österreich;X-APPLE-RADIUS=100;X-TITLE=Evangelische Kirche Zlan:geo:46.729
 2628,13.580762600000071
END:VEVENT
END:VCALENDAR