BEGIN:VCALENDAR
VERSION:2.0
PRODID:-//wp-events-plugin.com//7.2.3.1//EN
BEGIN:VEVENT
UID:9@sg-stockenboi.at
DTSTART:20151127T190000Z
DTEND:20151127T210000Z
DTSTAMP:20151113T202929Z
URL:https://www.sg-stockenboi.at/termine/1029/
SUMMARY:Einstimmung in den Advent
DESCRIPTION:Einstimmung in den Advent in der evangelischen Kirche in Feffer
 nitz
LOCATION:Kirche Feffernitz\, Dorfstraße\, Feffernitz\, 9710\, Österreich
GEO:46.693035219693975;13.69010773198545
X-APPLE-STRUCTURED-LOCATION;VALUE=URI;X-ADDRESS=Dorfstraße\, Feffernitz\, 
 9710\, Österreich;X-APPLE-RADIUS=100;X-TITLE=Kirche Feffernitz:geo:46.693
 035219693975,13.69010773198545
END:VEVENT
END:VCALENDAR